BEGIN:VCALENDAR
VERSION:2.0
PRODID:-//Comité de Bretagne de Cyclisme - ECPv6.15.20//NONSGML v1.0//EN
CALSCALE:GREGORIAN
METHOD:PUBLISH
X-ORIGINAL-URL:https://www.cyclisme.bzh
X-WR-CALDESC:Évènements pour Comité de Bretagne de Cyclisme
REFRESH-INTERVAL;VALUE=DURATION:PT1H
X-Robots-Tag:noindex
X-PUBLISHED-TTL:PT1H
BEGIN:VTIMEZONE
TZID:Europe/Paris
BEGIN:DAYLIGHT
TZOFFSETFROM:+0100
TZOFFSETTO:+0200
TZNAME:CEST
DTSTART:20220327T010000
END:DAYLIGHT
BEGIN:STANDARD
TZOFFSETFROM:+0200
TZOFFSETTO:+0100
TZNAME:CET
DTSTART:20221030T010000
END:STANDARD
BEGIN:DAYLIGHT
TZOFFSETFROM:+0100
TZOFFSETTO:+0200
TZNAME:CEST
DTSTART:20230326T010000
END:DAYLIGHT
BEGIN:STANDARD
TZOFFSETFROM:+0200
TZOFFSETTO:+0100
TZNAME:CET
DTSTART:20231029T010000
END:STANDARD
BEGIN:DAYLIGHT
TZOFFSETFROM:+0100
TZOFFSETTO:+0200
TZNAME:CEST
DTSTART:20240331T010000
END:DAYLIGHT
BEGIN:STANDARD
TZOFFSETFROM:+0200
TZOFFSETTO:+0100
TZNAME:CET
DTSTART:20241027T010000
END:STANDARD
END:VTIMEZONE
BEGIN:VEVENT
DTSTART;VALUE=DATE:20230802
DTEND;VALUE=DATE:20230807
DTSTAMP:20260422T125106
CREATED:20230712T135251Z
LAST-MODIFIED:20230712T135507Z
UID:10002056-1690934400-1691366399@www.cyclisme.bzh
SUMMARY:Plédran - Championnats de France de l'Avenir 2 au 6 aout 2023
DESCRIPTION:Lire en plein écranAller au contenu PDF\nLire en plein écranAller au contenu PDF
URL:https://www.cyclisme.bzh/epreuve-calendrier/pledran-championnats-de-france-de-lavenir-2-au-6-aout-2023/
LOCATION:PLEDRAN\, PLEDRAN\, Bretagne\, France
ATTACH;FMTTYPE=image/jpeg:https://www.cyclisme.bzh/wp-content/uploads/2023/01/RS_PLEDRAN_1200x630_2.jpg
END:VEVENT
BEGIN:VEVENT
DTSTART;VALUE=DATE:20230804
DTEND;VALUE=DATE:20230808
DTSTAMP:20260422T125106
CREATED:20230614T114458Z
LAST-MODIFIED:20230619T073936Z
UID:10002000-1691107200-1691452799@www.cyclisme.bzh
SUMMARY:L'Estivale Bretonne
DESCRIPTION:Equipes retenues: \nMORBIHAN FYBOLIA GOA\nAVC AIX EN PROVENCE\nWIELERPLOEG GROOT AMSTERDAM  NED\nAC BISONTINE\nGSC BLAGNAC VS 31\nBOURG EN BRESSE AIN CYCLISME\nUC BRIOCHINE BLEU MERCURE\nTEAM LA CREPE DE BROCELIANDE BLC\nGUIDON CHALETTOIS\nCRE’ACTUEL MARIE MORIN U 22\nSCO DIJON TEAM MATERIEL VELO.COM\nDINAN SPORT CYCLING\nEC SAINT ETIENNE LOIRE\nCC ETUPES LE DOUBS PAYS DE MONTBELIARD\nWIELER COMBINATIE FRIESLAND    NED\nTWC DE KEMPEN    NED\nTEAM LMP LA ROCHE VENDEE CYCLISME\nVCP LOUDEAC\nOCCITANE CF TEAM LEGEND WHEELS\nPARIS CYCLISME OLYMPIQUE\nUSSA PAVILLY BARENTIN\nCC PERIGUEUX DORDOGNE\nPLOUAY CYCLING TEAM\nSENSA KANJENS VOOR KANJENS    NED\nSOJASUN ESPOIRS ACNC\nPHILIPPE WAGNER CYCLING \n  \nEtape 1 – Grand Champ-Grand Champ: \n\nDépart: 13h30\n67.5 kms en ligne + 7 tours x 9.7 kms = 135.4 kms\nPrix coureurs: 1220/20\, 1er 246€\n\nEtape 2 – Scrignac-Poullaouen: \n\nDépart: 13h55\n51.6 kms en ligne + 11 tours x 7.8 kms = 137\, 4 kms\nPrix coureurs: 1220/20\, 1er 246€\n\nEtape 3 – Plougonven-Plouigneau: \n\nDépart: 13h55\n69.1 kms en ligne + 7 tours x 9.5 kms = 135.6 kms\nPrix coureurs: 1220/20\, 1er 246€\n\nEtape 4 – Loudéac-Loudéac: \n\nDépart: 13h30\n49.5 kms en ligne + 14 tours x 7 kms = 147.5 kms\nPrix coureurs: 1220/20\, 1er 246€\n\nClassement général: 2440/25 \n  \nRenseignements: TANGUY Nicole – e-mail: tanguy.nicole993@orange.fr / Port: 07.88.83.35.08 \nhttp://www.estivalebretonne.fr/ \nLire en plein écranAller au contenu PDF\n 
URL:https://www.cyclisme.bzh/epreuve-calendrier/lestivale-bretonne-2/
LOCATION:GRAND CHAMP\, GRAND CHAMP\, Bretagne\, France
CATEGORIES:Elite,Open 1
ORGANIZER;CN="VCP Loud%C3%A9ac":MAILTO:secretariatvcpl@orange.fr
END:VEVENT
BEGIN:VEVENT
DTSTART;VALUE=DATE:20230805
DTEND;VALUE=DATE:20230806
DTSTAMP:20260422T125106
CREATED:20230718T115725Z
LAST-MODIFIED:20230718T115725Z
UID:10002060-1691193600-1691279999@www.cyclisme.bzh
SUMMARY:Plélan le Petit - Circuit Champagne
DESCRIPTION:Access 3-4 H/F: \n\nDépart: 17h\n22 tours x 3 km (66 km)\nEngagements: 8.50€\n\n  \nAccess 1-2 H/F: \n\nDépart: 19h\n25 tours x 3 km (75 km)\nEngagements: 8.50€\n\n  \nOuverture des engagements: le 18/07/2023 à 18h\, clôture le 02/08/2023 à 20h \nRenseignements: LEBRAS Céline – e-mail: patrice.lebras@wanadoo.fr / Port: 06.32.29.94.52
URL:https://www.cyclisme.bzh/epreuve-calendrier/plelan-le-petit-circuit-champagne/
LOCATION:PLELAN LE PETIT\, PLELAN LE PETIT\, Bretagne\, France
CATEGORIES:Access 1,Access 2,Access 3,Access 4
ORGANIZER;CN="TEAM MEGRIT (4322459)":MAILTO:patrice.lebras@wanadoo.fr
END:VEVENT
BEGIN:VEVENT
DTSTART;VALUE=DATE:20230805
DTEND;VALUE=DATE:20230806
DTSTAMP:20260422T125106
CREATED:20230703T092716Z
LAST-MODIFIED:20230703T092716Z
UID:10002039-1691193600-1691279999@www.cyclisme.bzh
SUMMARY:Gourin - Toul An Chy
DESCRIPTION:Open 2-3 + Access 1-2 H/F: \n\nDépart: 15h\n36 tours x 2.4 km (86.4 km)\nPrix coureurs: 259/15\, 1er 50€\nEngagements: 8.50€\n\n  \nOuverture des engagements: le 03/07/2023 à 18h\, clôture le 02/08/2023 à 20h \nRenseignements: CANEVET Jocelyn – e-mail: canevetjocelyn29@gmail.com / Port: 06.36.12.35.18
URL:https://www.cyclisme.bzh/epreuve-calendrier/gourin-toul-an-chy/
LOCATION:GOURIN\, France
CATEGORIES:Access 1,Access 2,Open 2,Open 3
END:VEVENT
BEGIN:VEVENT
DTSTART;VALUE=DATE:20230805
DTEND;VALUE=DATE:20230806
DTSTAMP:20260422T125106
CREATED:20230724T094046Z
LAST-MODIFIED:20230807T075743Z
UID:10002083-1691193600-1691279999@www.cyclisme.bzh
SUMMARY:Vannes - Vélodrome de Kermesquel - 2ème manche de la Coupe du Conseil Départemental - "Souvenir Joël Bourvellec"
DESCRIPTION:Départ: 13h30\nPrix coureurs:\n\n-> U15/U17 F: 30/3\, 1ère 15€ \n-> U15 H: 30/3\, 1er 15€ \n-> U17 H: 30/3\, 1er 15€ \n-> Femmes U19 et +: 47/3\, 1ère 20€ \n-> U19 H: 47/3\, 1er 20€ \n-> Hommes Elite + Open: 47/3\, 1er 15€ \n\nEngagements: 6.50€ pour les U15 et U17 – 8.50€ pour les 17 ans et +\n\n  \nOuverture des engagements: le 24/07/2023 à 18h\, clôture le 02/08/2023 à 20h \nRenseignements: DEMAY Jean-Jacques – e-mail: demayjj@neuf.fr / Port: 06.95.55.09.67
URL:https://www.cyclisme.bzh/epreuve-calendrier/vannes-velodrome-de-kermesquel-2eme-manche-de-la-coupe-du-conseil-departemental-souvenir-joel-bourvellec/
LOCATION:VANNES\, France
CATEGORIES:Access,Elite,Elite Pro,Epreuve de Masse VTT,Open,U15,U17
END:VEVENT
BEGIN:VEVENT
DTSTART;VALUE=DATE:20230805
DTEND;VALUE=DATE:20230806
DTSTAMP:20260422T125106
CREATED:20230728T124259Z
LAST-MODIFIED:20230728T124259Z
UID:10002093-1691193600-1691279999@www.cyclisme.bzh
SUMMARY:Poullaouen - Régularité route
DESCRIPTION:Régularité route – U7 H/F à U13 H/F: \n\nDépart: 13h\nDistance selon l’âge\nEngagements: 2€\n\n  \nOuverture des engagements: le 28/07/2023 à 14h\, clôture le 02/08/2023 à 20h \nRenseignements: HARNOIS Yvon – e-mail: yvon.harnois@wanadoo.fr / Port: 06.28.36.69.18
URL:https://www.cyclisme.bzh/epreuve-calendrier/poullaouen-regularite-route/
LOCATION:POULLAOUEN\, POULLAOUEN\, Bretagne\, France
CATEGORIES:U11,U13,U7,U9
ORGANIZER;CN="VCP Loud%C3%A9ac":MAILTO:secretariatvcpl@orange.fr
END:VEVENT
END:VCALENDAR