BEGIN:VCALENDAR
VERSION:2.0
PRODID:-//Comité de Bretagne de Cyclisme - ECPv6.15.20//NONSGML v1.0//EN
CALSCALE:GREGORIAN
METHOD:PUBLISH
X-ORIGINAL-URL:https://www.cyclisme.bzh
X-WR-CALDESC:Évènements pour Comité de Bretagne de Cyclisme
REFRESH-INTERVAL;VALUE=DURATION:PT1H
X-Robots-Tag:noindex
X-PUBLISHED-TTL:PT1H
BEGIN:VTIMEZONE
TZID:Europe/Paris
BEGIN:DAYLIGHT
TZOFFSETFROM:+0100
TZOFFSETTO:+0200
TZNAME:CEST
DTSTART:20220327T010000
END:DAYLIGHT
BEGIN:STANDARD
TZOFFSETFROM:+0200
TZOFFSETTO:+0100
TZNAME:CET
DTSTART:20221030T010000
END:STANDARD
BEGIN:DAYLIGHT
TZOFFSETFROM:+0100
TZOFFSETTO:+0200
TZNAME:CEST
DTSTART:20230326T010000
END:DAYLIGHT
BEGIN:STANDARD
TZOFFSETFROM:+0200
TZOFFSETTO:+0100
TZNAME:CET
DTSTART:20231029T010000
END:STANDARD
BEGIN:DAYLIGHT
TZOFFSETFROM:+0100
TZOFFSETTO:+0200
TZNAME:CEST
DTSTART:20240331T010000
END:DAYLIGHT
BEGIN:STANDARD
TZOFFSETFROM:+0200
TZOFFSETTO:+0100
TZNAME:CET
DTSTART:20241027T010000
END:STANDARD
END:VTIMEZONE
BEGIN:VEVENT
DTSTART;VALUE=DATE:20230602
DTEND;VALUE=DATE:20230603
DTSTAMP:20260422T160317
CREATED:20230509T133457Z
LAST-MODIFIED:20230530T065458Z
UID:10001883-1685664000-1685750399@www.cyclisme.bzh
SUMMARY:Bruz - Souvenir Eugène Trémaudan - Eliminatoire Open 1-2-3 H/F
DESCRIPTION:Semi-nocturne – Eliminatoire Open 1-2-3 H/F: \n\nDépart: 20h\nLongueur du circuit: 800m\nPrix coureurs: 610/20\, 1er 122€\nEngagements: 8.50€\n\n  \nOuverture des engagements: le 09/05/2023 à 18h\, clôture le 30/05/2023 à 20h \nRenseignements: OLLIVIER Renée – e-mail: a.r.ollivier@orange.fr / Port: 06.43.54.91.70 \n 
URL:https://www.cyclisme.bzh/epreuve-calendrier/bruz-souvenir-eugene-tremaudan-eliminatoire-open-1-2-3-h-f/
LOCATION:BRUZ\, BRUZ\, Bretagne\, France
CATEGORIES:Open 1,Open 2,Open 3
ORGANIZER;CN="VC RENNAIS (4335044)":MAILTO:a.r.ollivier@orange.fr
END:VEVENT
BEGIN:VEVENT
DTSTART;VALUE=DATE:20230602
DTEND;VALUE=DATE:20230603
DTSTAMP:20260422T160317
CREATED:20230426T122815Z
LAST-MODIFIED:20230426T145310Z
UID:10001860-1685664000-1685750399@www.cyclisme.bzh
SUMMARY:Plélauff - Semi-nocturne "Le circuit des Granitiers" - Access 1-2-3-4 H/F
DESCRIPTION:Access 1-2-3-4 H/F: \n\nDépart: 19h\n12 tours x 6.1 kms (73.2 kms)\nEngagements: 8.50€\n\n  \nOuverture des engagements: le 26/04/2023 à 18h\, clôture le 30/05/2023 à 20h \nRenseignements: \n\nHERVIOU Ange – e-mail: ange.herviou@orange.fr / Port: 06.50.19.88.42\nEntente Cycliste Rostrenen: ententecyclisterostrenen@gmail.com\n\n  \n 
URL:https://www.cyclisme.bzh/epreuve-calendrier/plelauff-semi-nocturne-access-1-2-3-4-h-f/
LOCATION:PLELAUFF\, France
CATEGORIES:Access
ATTACH;FMTTYPE=application/pdf:https://www.cyclisme.bzh/wp-content/uploads/2023/04/Affiche.pdf
END:VEVENT
BEGIN:VEVENT
DTSTART;VALUE=DATE:20230602
DTEND;VALUE=DATE:20230603
DTSTAMP:20260422T160317
CREATED:20230427T121325Z
LAST-MODIFIED:20230427T121325Z
UID:10001864-1685664000-1685750399@www.cyclisme.bzh
SUMMARY:Pleslin Trigavou - Challenge Souffle d'Espoir - Access 1-2 H/F et Access  H/F
DESCRIPTION:Access 3-4 H/F: \n\nDépart: 18h30\n55 tours x 0.925 kms (50.875 kms)\nEngagements: 8.50€\n\n  \nAccess 1-2 H/F: \n\nDépart: 20h15\n70 tours x 0.925 kms (64.75 kms)\nEngagements: 8.50€\n\n  \nOuverture des engagements: le 27/04/2023 à 18h\, clôture le 31/05/2023 à 19h \nRenseignements: COLOMBEL Nicolas – e-mail: colombel.teampaysdinan@outlook.fr / Port: 06.74.42.93.75
URL:https://www.cyclisme.bzh/epreuve-calendrier/pleslin-trigavou-challenge-souffle-despoir-access-1-2-h-f-et-access-h-f/
LOCATION:PLESLIN TRIGAVOU\, PLESLIN TRIGAVOU\, Bretagne\, France
CATEGORIES:Access 1,Access 2,Access 3,Access 4
END:VEVENT
END:VCALENDAR