BEGIN:VCALENDAR
VERSION:2.0
PRODID:-//Comité de Bretagne de Cyclisme - ECPv6.15.20//NONSGML v1.0//EN
CALSCALE:GREGORIAN
METHOD:PUBLISH
X-ORIGINAL-URL:https://www.cyclisme.bzh
X-WR-CALDESC:Évènements pour Comité de Bretagne de Cyclisme
REFRESH-INTERVAL;VALUE=DURATION:PT1H
X-Robots-Tag:noindex
X-PUBLISHED-TTL:PT1H
BEGIN:VTIMEZONE
TZID:Europe/Paris
BEGIN:DAYLIGHT
TZOFFSETFROM:+0100
TZOFFSETTO:+0200
TZNAME:CEST
DTSTART:20220327T010000
END:DAYLIGHT
BEGIN:STANDARD
TZOFFSETFROM:+0200
TZOFFSETTO:+0100
TZNAME:CET
DTSTART:20221030T010000
END:STANDARD
BEGIN:DAYLIGHT
TZOFFSETFROM:+0100
TZOFFSETTO:+0200
TZNAME:CEST
DTSTART:20230326T010000
END:DAYLIGHT
BEGIN:STANDARD
TZOFFSETFROM:+0200
TZOFFSETTO:+0100
TZNAME:CET
DTSTART:20231029T010000
END:STANDARD
BEGIN:DAYLIGHT
TZOFFSETFROM:+0100
TZOFFSETTO:+0200
TZNAME:CEST
DTSTART:20240331T010000
END:DAYLIGHT
BEGIN:STANDARD
TZOFFSETFROM:+0200
TZOFFSETTO:+0100
TZNAME:CET
DTSTART:20241027T010000
END:STANDARD
END:VTIMEZONE
BEGIN:VEVENT
DTSTART;VALUE=DATE:20230129
DTEND;VALUE=DATE:20230130
DTSTAMP:20260423T001508
CREATED:20221214T081706Z
LAST-MODIFIED:20221214T084143Z
UID:10001619-1674950400-1675036799@www.cyclisme.bzh
SUMMARY:Iffendic - Site de la Chambre aux Loups
DESCRIPTION:U15 H/F : Dép 13h15 – Durée 20′ – Prix coureurs 30/3 1er 15 € – Engagements 6.50 € \nU17 H/F + U19H + Femmes 17ans et + : Dép 14h00 –\nDurée 30′ pour les U17 – Prix coureurs 61/5 U17 H\, 47/3 1ère 24 € ps U17H – Engagements 6.50 €\nDurée 40′ pour les U19H + Femmes 17ans et + – Prix coureurs : 76/5 1er 27 € ps U19 – 47/3 1ère 24 € ps Femmes – Engagements 8.50 € \nU23/Seniors H : Dép 15h15 – Durée 50′ – Prix coureurs : 320/15 1er 62 € – Engagements 8.50 € \n 
URL:https://www.cyclisme.bzh/epreuve-calendrier/iffendic-site-de-la-chambre-aux-loups/
LOCATION:IFFENDIC\, France
ORGANIZER;CN="VC PLELANAIS (4335037)":MAILTO:gmenage@laposte.net vcplelan@outlook.fr
END:VEVENT
END:VCALENDAR