BEGIN:VCALENDAR
VERSION:2.0
PRODID:-//Comité de Bretagne de Cyclisme - ECPv6.15.20//NONSGML v1.0//EN
CALSCALE:GREGORIAN
METHOD:PUBLISH
X-WR-CALNAME:Comité de Bretagne de Cyclisme
X-ORIGINAL-URL:https://www.cyclisme.bzh
X-WR-CALDESC:Évènements pour Comité de Bretagne de Cyclisme
REFRESH-INTERVAL;VALUE=DURATION:PT1H
X-Robots-Tag:noindex
X-PUBLISHED-TTL:PT1H
BEGIN:VTIMEZONE
TZID:Europe/Paris
BEGIN:DAYLIGHT
TZOFFSETFROM:+0100
TZOFFSETTO:+0200
TZNAME:CEST
DTSTART:20220327T010000
END:DAYLIGHT
BEGIN:STANDARD
TZOFFSETFROM:+0200
TZOFFSETTO:+0100
TZNAME:CET
DTSTART:20221030T010000
END:STANDARD
BEGIN:DAYLIGHT
TZOFFSETFROM:+0100
TZOFFSETTO:+0200
TZNAME:CEST
DTSTART:20230326T010000
END:DAYLIGHT
BEGIN:STANDARD
TZOFFSETFROM:+0200
TZOFFSETTO:+0100
TZNAME:CET
DTSTART:20231029T010000
END:STANDARD
BEGIN:DAYLIGHT
TZOFFSETFROM:+0100
TZOFFSETTO:+0200
TZNAME:CEST
DTSTART:20240331T010000
END:DAYLIGHT
BEGIN:STANDARD
TZOFFSETFROM:+0200
TZOFFSETTO:+0100
TZNAME:CET
DTSTART:20241027T010000
END:STANDARD
END:VTIMEZONE
BEGIN:VEVENT
DTSTART;VALUE=DATE:20230122
DTEND;VALUE=DATE:20230123
DTSTAMP:20260423T001410
CREATED:20221213T084706Z
LAST-MODIFIED:20221219T084350Z
UID:10001618-1674345600-1674431999@www.cyclisme.bzh
SUMMARY:Vern sur Seiche - Finale de la Coupe de Bretagne
DESCRIPTION:Régularité U7 à U13 H/F : Dép 11h – Durée de 7′ à 15′ selon l’âge – Engagements 2 € \nU15 H/F\, Finale de la Coupe de Bretagne : Dép 12h30 – Durée 20′ – Prix coureurs : 107/10 1er 20 € pour les Hommes et 47/5 1ère 18 € pour les femmes – Engagements 6.50 € \nU17 H/F\, Finale de la Coupe de Bretagne : Dép 13h15 – Durée 30′ – Prix coureurs : 107/10 1er 20 € pour les Hommes et 47/5 1ère 18 € pour les femmes – Engagements 6.50 € \nU19 H et Femmes 17ans et +\, Finale de la Coupe de Bretagne : Dép 14h15 – Durée 40′ – Prix coureurs : 183/10 1er 57 € pour les Hommes et 61/5 1ère 21 € pour les femmes – Engagements 8.50 € \nU23/Seniors H\, Finale de la Coupe de Bretagne : Dép 15h30 – Durée 50′ – Prix coureurs : 396/20 1er 78 € et 122/10  1er 24 € pour les U23 – Engagements 8.50 € \nRenseignements : Mickaël Guillard – 06 81 89 20 83 – jlguillard35@hotmail.fr
URL:https://www.cyclisme.bzh/epreuve-calendrier/vern-sur-seiche-finale-de-la-coupe-de-bretagne/
LOCATION:VERN SUR SEICHE\, VERN SUR SEICHE\, Bretagne\, France
ATTACH;FMTTYPE=image/png:https://www.cyclisme.bzh/wp-content/uploads/2022/12/Derniere-modification-AFFICHE-CX-BZH-EMMA.png
ORGANIZER;CN="US VERN CYCLISME (4335091)":MAILTO:jlguillard35@hotmail.fr
END:VEVENT
END:VCALENDAR