BEGIN:VCALENDAR
VERSION:2.0
PRODID:-//Comité de Bretagne de Cyclisme - ECPv6.15.20//NONSGML v1.0//EN
CALSCALE:GREGORIAN
METHOD:PUBLISH
X-ORIGINAL-URL:https://www.cyclisme.bzh
X-WR-CALDESC:Évènements pour Comité de Bretagne de Cyclisme
REFRESH-INTERVAL;VALUE=DURATION:PT1H
X-Robots-Tag:noindex
X-PUBLISHED-TTL:PT1H
BEGIN:VTIMEZONE
TZID:Europe/Paris
BEGIN:DAYLIGHT
TZOFFSETFROM:+0100
TZOFFSETTO:+0200
TZNAME:CEST
DTSTART:20220327T010000
END:DAYLIGHT
BEGIN:STANDARD
TZOFFSETFROM:+0200
TZOFFSETTO:+0100
TZNAME:CET
DTSTART:20221030T010000
END:STANDARD
BEGIN:DAYLIGHT
TZOFFSETFROM:+0100
TZOFFSETTO:+0200
TZNAME:CEST
DTSTART:20230326T010000
END:DAYLIGHT
BEGIN:STANDARD
TZOFFSETFROM:+0200
TZOFFSETTO:+0100
TZNAME:CET
DTSTART:20231029T010000
END:STANDARD
BEGIN:DAYLIGHT
TZOFFSETFROM:+0100
TZOFFSETTO:+0200
TZNAME:CEST
DTSTART:20240331T010000
END:DAYLIGHT
BEGIN:STANDARD
TZOFFSETFROM:+0200
TZOFFSETTO:+0100
TZNAME:CET
DTSTART:20241027T010000
END:STANDARD
END:VTIMEZONE
BEGIN:VEVENT
DTSTART;VALUE=DATE:20230108
DTEND;VALUE=DATE:20230109
DTSTAMP:20260423T001507
CREATED:20221202T101305Z
LAST-MODIFIED:20230103T162706Z
UID:10001614-1673136000-1673222399@www.cyclisme.bzh
SUMMARY:Pont-Scorff - Coupe de Bretagne #3
DESCRIPTION:Pont-Scorff – Stade Penverne – Coupe de Bretagne #3  \nU15 H/F : Dép 11h30 – Durée 20′ – Prix coureurs : 47/5 1er 18 € – 28/3 1ère 15 € ps Filles – Engagements 6.50€ \nU17 H/F : Dép 12h15 – Durée 30′ – Prix coureurs : 107/10 1er 20 € – 47/5 1ère 18 € ps Filles – Engagements 6.50 € \nU19 H et Femmes 17ans et + :  Dép 14h15 – Durée 40′ – Prix coureurs 152/10 1er 30 € ps juniors H\, 915 1ère 29 € ps Filles – Engagements 8.50 € \nU23/Seniors H : Dép 15h30 – Durée 50′ – Prix coureurs : 610/20 1er 122€ – Engagements 8.50 € \nClôture des engagements le jeudi 5 janvier 2023 à 20h00 \nRenseignements : Wilfrid LECLERCQ – 06 30 23 95 14 – w.leclercq@begp.bzh
URL:https://www.cyclisme.bzh/epreuve-calendrier/pont-scorff/
LOCATION:Pont-Scorff\, France
ATTACH;FMTTYPE=image/jpeg:https://www.cyclisme.bzh/wp-content/uploads/2022/12/cyclo-cross-de-pont-scorff-5_page-0001-scaled.jpg
ORGANIZER;CN="EC QUEVENOISE (4356186)":MAILTO:w.leclercq@gueguen-perennou.fr
END:VEVENT
END:VCALENDAR