BEGIN:VCALENDAR
VERSION:2.0
PRODID:-//Comité de Bretagne de Cyclisme - ECPv6.15.20//NONSGML v1.0//EN
CALSCALE:GREGORIAN
METHOD:PUBLISH
X-WR-CALNAME:Comité de Bretagne de Cyclisme
X-ORIGINAL-URL:https://www.cyclisme.bzh
X-WR-CALDESC:Évènements pour Comité de Bretagne de Cyclisme
REFRESH-INTERVAL;VALUE=DURATION:PT1H
X-Robots-Tag:noindex
X-PUBLISHED-TTL:PT1H
BEGIN:VTIMEZONE
TZID:Europe/Paris
BEGIN:DAYLIGHT
TZOFFSETFROM:+0100
TZOFFSETTO:+0200
TZNAME:CEST
DTSTART:20220327T010000
END:DAYLIGHT
BEGIN:STANDARD
TZOFFSETFROM:+0200
TZOFFSETTO:+0100
TZNAME:CET
DTSTART:20221030T010000
END:STANDARD
BEGIN:DAYLIGHT
TZOFFSETFROM:+0100
TZOFFSETTO:+0200
TZNAME:CEST
DTSTART:20230326T010000
END:DAYLIGHT
BEGIN:STANDARD
TZOFFSETFROM:+0200
TZOFFSETTO:+0100
TZNAME:CET
DTSTART:20231029T010000
END:STANDARD
BEGIN:DAYLIGHT
TZOFFSETFROM:+0100
TZOFFSETTO:+0200
TZNAME:CEST
DTSTART:20240331T010000
END:DAYLIGHT
BEGIN:STANDARD
TZOFFSETFROM:+0200
TZOFFSETTO:+0100
TZNAME:CET
DTSTART:20241027T010000
END:STANDARD
END:VTIMEZONE
BEGIN:VEVENT
DTSTART;VALUE=DATE:20230107
DTEND;VALUE=DATE:20230108
DTSTAMP:20260423T001414
CREATED:20221209T083255Z
LAST-MODIFIED:20221212T101800Z
UID:10001616-1673049600-1673135999@www.cyclisme.bzh
SUMMARY:Cruguel
DESCRIPTION:épreuve U7\, U9\, U11 et U13  : \ndépart : 10h45 – durée : suivant l’âge – Engagements 2 € \népreuve U15 H/F: \ndépart : 12h45 – durée : 20′ – pas de Prix coureurs – Engagements 6.50 € \népreuve U17 H/F: \ndépart : 13h30 – durée : 30′ – Prix coureurs cadets : 107/10 1er 20 € – pc cadettes : 30/3 1ère 15 € \népreuve U19  H  et Dames 17ans et + : \ndépart : 14h30 – durée : 40′ – PC : 228/10 1er 46 € ps U19 H – PC : 152/5 1ère 54 € ps Dames. – Engagements 8.50 € \népreuve U23/Seniors H : \ndépart : 15h30 – durée : 50′ – pc : 915/20 1ER 184 € – Engagements 8.50 € \nRenseignements : Gaetan BELLANGER ucpjosselin@gmail.com
URL:https://www.cyclisme.bzh/epreuve-calendrier/cruguel/
LOCATION:CRUGUEL\, CRUGUEL\, Bretagne\, France
ATTACH;FMTTYPE=image/jpeg:https://www.cyclisme.bzh/wp-content/uploads/2022/12/319543871_589953376463097_6917039512457881305_n.jpg
ORGANIZER;CN="UC PAYS DE JOSSELIN (4356215)":MAILTO:ucjosselin@hotmail.fr
END:VEVENT
END:VCALENDAR