BEGIN:VCALENDAR
VERSION:2.0
PRODID:-//Comité de Bretagne de Cyclisme - ECPv6.15.20//NONSGML v1.0//EN
CALSCALE:GREGORIAN
METHOD:PUBLISH
X-WR-CALNAME:Comité de Bretagne de Cyclisme
X-ORIGINAL-URL:https://www.cyclisme.bzh
X-WR-CALDESC:Évènements pour Comité de Bretagne de Cyclisme
REFRESH-INTERVAL;VALUE=DURATION:PT1H
X-Robots-Tag:noindex
X-PUBLISHED-TTL:PT1H
BEGIN:VTIMEZONE
TZID:Europe/Paris
BEGIN:DAYLIGHT
TZOFFSETFROM:+0100
TZOFFSETTO:+0200
TZNAME:CEST
DTSTART:20210328T010000
END:DAYLIGHT
BEGIN:STANDARD
TZOFFSETFROM:+0200
TZOFFSETTO:+0100
TZNAME:CET
DTSTART:20211031T010000
END:STANDARD
BEGIN:DAYLIGHT
TZOFFSETFROM:+0100
TZOFFSETTO:+0200
TZNAME:CEST
DTSTART:20220327T010000
END:DAYLIGHT
BEGIN:STANDARD
TZOFFSETFROM:+0200
TZOFFSETTO:+0100
TZNAME:CET
DTSTART:20221030T010000
END:STANDARD
BEGIN:DAYLIGHT
TZOFFSETFROM:+0100
TZOFFSETTO:+0200
TZNAME:CEST
DTSTART:20230326T010000
END:DAYLIGHT
BEGIN:STANDARD
TZOFFSETFROM:+0200
TZOFFSETTO:+0100
TZNAME:CET
DTSTART:20231029T010000
END:STANDARD
END:VTIMEZONE
BEGIN:VEVENT
DTSTART;VALUE=DATE:20221204
DTEND;VALUE=DATE:20221205
DTSTAMP:20260423T093906
CREATED:20221114T080303Z
LAST-MODIFIED:20221114T082009Z
UID:10001610-1670112000-1670198399@www.cyclisme.bzh
SUMMARY:Carhaix
DESCRIPTION:Régularité : Dép 11h – Durée selon l’âge – Sans prix coureurs – Engagements 2 € \nMinimes H/F : Dép 12h45 – Durée 20′ – Sans prix coureurs – Engagements 6.5 € \nCadets H/F : Dép 13h30 – Durée 30′ – Sans prix coureurs – Engagements 6.5 € \nJuniors H/Dames 17ans et + : Dép 14h15 – Durée 40′ – Sans prix coureurs – Engagements 8.5 € \nEspoirs/Seniors H : Dép 15h15 – Durée 50 ‘ – Sans prix coureurs – Engagements 8.5 € \nRenseignements : Florence GUYOMARC’H – 06 27 05 61 60 – guyomarch29@wanadoo.fr \n 
URL:https://www.cyclisme.bzh/epreuve-calendrier/carhaix/
LOCATION:CARHAIX\, CARHAIX\, Bretagne\, France
CATEGORIES:Ecole de cyclisme
ORGANIZER;CN="UC Carhaix":MAILTO:angellegr56@gmail.com
END:VEVENT
END:VCALENDAR