BEGIN:VCALENDAR
VERSION:2.0
PRODID:-//Comité de Bretagne de Cyclisme - ECPv6.15.20//NONSGML v1.0//EN
CALSCALE:GREGORIAN
METHOD:PUBLISH
X-WR-CALNAME:Comité de Bretagne de Cyclisme
X-ORIGINAL-URL:https://www.cyclisme.bzh
X-WR-CALDESC:Évènements pour Comité de Bretagne de Cyclisme
REFRESH-INTERVAL;VALUE=DURATION:PT1H
X-Robots-Tag:noindex
X-PUBLISHED-TTL:PT1H
BEGIN:VTIMEZONE
TZID:Europe/Paris
BEGIN:DAYLIGHT
TZOFFSETFROM:+0100
TZOFFSETTO:+0200
TZNAME:CEST
DTSTART:20210328T010000
END:DAYLIGHT
BEGIN:STANDARD
TZOFFSETFROM:+0200
TZOFFSETTO:+0100
TZNAME:CET
DTSTART:20211031T010000
END:STANDARD
BEGIN:DAYLIGHT
TZOFFSETFROM:+0100
TZOFFSETTO:+0200
TZNAME:CEST
DTSTART:20220327T010000
END:DAYLIGHT
BEGIN:STANDARD
TZOFFSETFROM:+0200
TZOFFSETTO:+0100
TZNAME:CET
DTSTART:20221030T010000
END:STANDARD
BEGIN:DAYLIGHT
TZOFFSETFROM:+0100
TZOFFSETTO:+0200
TZNAME:CEST
DTSTART:20230326T010000
END:DAYLIGHT
BEGIN:STANDARD
TZOFFSETFROM:+0200
TZOFFSETTO:+0100
TZNAME:CET
DTSTART:20231029T010000
END:STANDARD
END:VTIMEZONE
BEGIN:VEVENT
DTSTART;VALUE=DATE:20220925
DTEND;VALUE=DATE:20220926
DTSTAMP:20260424T103612
CREATED:20220809T120053Z
LAST-MODIFIED:20220809T120053Z
UID:10001487-1664064000-1664150399@www.cyclisme.bzh
SUMMARY:Argentré Du Plessis
DESCRIPTION:Régularité route : \nDépart 11h30 – Circuit 1.20 km – Distance et durée selon âge \nEngagement 2€ \nMinimes H / F : \nDépart 12h15 – Circuit 2.25 km – Durée 20 minutes \nEngagement 6.50€ \nCadets / Cadettes : \nDépart 13h – Circuit 2.25 km – Durée 30 minutes \nEngagement 6.50€ \nPrix coureurs : 61 / 5 – 1er prix 21€ \nPrix cadettes : 30 / 3 – 1er prix 15€ \nDames 17 + / Juniors / Pass : \nDépart 14h15 – Circuit 2.25 km – Durée 40 minutes \nEngagement 8.50€ \nPrix coureurs : 76 / 5 – 1er prix 27€ \nPrix dames : 47 / 3 – 1er prix 24€ \nEspoirs  / Seniors : \nDépart 15h30 – Circuit 2.25 km – Durée 50 minutes \nEngagement 8.50€ \nPrix coureurs : 320 / 15 – 1er prix 62€ \nPrix espoirs : 61 / 5 – 1er prix 21€ \nEngagements : \nOuverture le 10/08/2022 à 18h \nFermeture le 22/09/2022 à 20h \nPrésident de jury : \nNon communiqué
URL:https://www.cyclisme.bzh/epreuve-calendrier/argentre-du-plessis-3/
LOCATION:ARGENTRE DU PLESSIS\, ARGENTRE DU PLESSIS\, Bretagne\, France
CATEGORIES:Ecole de cyclisme
ORGANIZER;CN="ASPTT RENNES CYCLISME (4335114)":MAILTO:aspttrennescycling@gmail.com
END:VEVENT
BEGIN:VEVENT
DTSTART;VALUE=DATE:20220925
DTEND;VALUE=DATE:20220926
DTSTAMP:20260424T103612
CREATED:20220901T092343Z
LAST-MODIFIED:20220901T092343Z
UID:10001541-1664064000-1664150399@www.cyclisme.bzh
SUMMARY:Grand Champ
DESCRIPTION:Régularité route : \nDépart 11h30 – Distance et durée selon âge \nEngagement 2€ \nMinimes H/F : \nDépart 12h30 – Durée 20 minutes \nEngagement 6.50€ \nPrix coureurs : 28 / 3 – 1er prix 15€ \nSeniors – Contre la montre : \nDépart 13h \nCadets / Cadettes : \nDépart 14h30 – Durée 30 minutes \nEngagement 6.50€ \nPrix coureurs : 61 / 5 – 1er prix 21€ \nPrix cadettes : 30 / 3 – 1er prix 15€ \nJuniors H / F : \nDépart 14h30 – Durée 40 minutes \nEngagement 8.50€ \nPrix coureurs : 76 / 5 – 1er prix 38€ \nPrix juniors F : 47 / 5 – 1er prix 18€ \nEspoirs / Seniors : \nDépart 15h30 – Durée 50 minutes \nEngagement 8.50€ \nPrix coureurs : 259 / 15 – 1er prix 50€ \nEngagements : \nOuverture le 02/09/2022 à 18h \nFermeture le 22/09/2022 à 20h \nPrésident de jury : \nNon communiqué
URL:https://www.cyclisme.bzh/epreuve-calendrier/grand-champ-3/
LOCATION:GRAND CHAMP\, GRAND CHAMP\, Bretagne\, France
ORGANIZER;CN="VELOCE VANNETAIS CYCLISME (4356083)":MAILTO:hugues.sero@wanadoo.fr
END:VEVENT
END:VCALENDAR