BEGIN:VCALENDAR
VERSION:2.0
PRODID:-//Comité de Bretagne de Cyclisme - ECPv6.15.20//NONSGML v1.0//EN
CALSCALE:GREGORIAN
METHOD:PUBLISH
X-WR-CALNAME:Comité de Bretagne de Cyclisme
X-ORIGINAL-URL:https://www.cyclisme.bzh
X-WR-CALDESC:Évènements pour Comité de Bretagne de Cyclisme
REFRESH-INTERVAL;VALUE=DURATION:PT1H
X-Robots-Tag:noindex
X-PUBLISHED-TTL:PT1H
BEGIN:VTIMEZONE
TZID:Europe/Paris
BEGIN:DAYLIGHT
TZOFFSETFROM:+0100
TZOFFSETTO:+0200
TZNAME:CEST
DTSTART:20200329T010000
END:DAYLIGHT
BEGIN:STANDARD
TZOFFSETFROM:+0200
TZOFFSETTO:+0100
TZNAME:CET
DTSTART:20201025T010000
END:STANDARD
BEGIN:DAYLIGHT
TZOFFSETFROM:+0100
TZOFFSETTO:+0200
TZNAME:CEST
DTSTART:20210328T010000
END:DAYLIGHT
BEGIN:STANDARD
TZOFFSETFROM:+0200
TZOFFSETTO:+0100
TZNAME:CET
DTSTART:20211031T010000
END:STANDARD
BEGIN:DAYLIGHT
TZOFFSETFROM:+0100
TZOFFSETTO:+0200
TZNAME:CEST
DTSTART:20220327T010000
END:DAYLIGHT
BEGIN:STANDARD
TZOFFSETFROM:+0200
TZOFFSETTO:+0100
TZNAME:CET
DTSTART:20221030T010000
END:STANDARD
END:VTIMEZONE
BEGIN:VEVENT
DTSTART;VALUE=DATE:20211226
DTEND;VALUE=DATE:20211227
DTSTAMP:20260425T183439
CREATED:20211203T085920Z
LAST-MODIFIED:20211203T090906Z
UID:10001037-1640476800-1640563199@www.cyclisme.bzh
SUMMARY:Camors - Coupe Conseil Départemental
DESCRIPTION:épreuve régularité : \ndépart : 13h15 – durée selon l’âge \népreuve minimes H/F : \ndépart : 14h – durée : 20 mn – pas de pc \népreuve cadets-cadettes : \ndépart : 14h30 – durée : 30 mn – pc : 61/5 \népreuve juniors H : \ndépart ; 14h30 – durée : 40 mn – pc 76/5 \népreuve dames 17 ans et + : \ndépart : 14h30 – durée : 40 mn – pas de pc \népreuve espoirs-seniors : \ndépart : 15h30 – durée : 50 mn – pc : 320/15 \nlongueur circuit pour les épreuves 2.6 kms \nPDJ : Joël Guillo
URL:https://www.cyclisme.bzh/epreuve-calendrier/camors-coupe-conseil-departemental/
LOCATION:CAMORS\, CAMORS\, Bretagne\, France
CATEGORIES:Ecole de cyclisme
END:VEVENT
END:VCALENDAR