BEGIN:VCALENDAR
VERSION:2.0
PRODID:-//Comité de Bretagne de Cyclisme - ECPv6.15.20//NONSGML v1.0//EN
CALSCALE:GREGORIAN
METHOD:PUBLISH
X-ORIGINAL-URL:https://www.cyclisme.bzh
X-WR-CALDESC:Évènements pour Comité de Bretagne de Cyclisme
REFRESH-INTERVAL;VALUE=DURATION:PT1H
X-Robots-Tag:noindex
X-PUBLISHED-TTL:PT1H
BEGIN:VTIMEZONE
TZID:Europe/Paris
BEGIN:DAYLIGHT
TZOFFSETFROM:+0100
TZOFFSETTO:+0200
TZNAME:CEST
DTSTART:20200329T010000
END:DAYLIGHT
BEGIN:STANDARD
TZOFFSETFROM:+0200
TZOFFSETTO:+0100
TZNAME:CET
DTSTART:20201025T010000
END:STANDARD
BEGIN:DAYLIGHT
TZOFFSETFROM:+0100
TZOFFSETTO:+0200
TZNAME:CEST
DTSTART:20210328T010000
END:DAYLIGHT
BEGIN:STANDARD
TZOFFSETFROM:+0200
TZOFFSETTO:+0100
TZNAME:CET
DTSTART:20211031T010000
END:STANDARD
BEGIN:DAYLIGHT
TZOFFSETFROM:+0100
TZOFFSETTO:+0200
TZNAME:CEST
DTSTART:20220327T010000
END:DAYLIGHT
BEGIN:STANDARD
TZOFFSETFROM:+0200
TZOFFSETTO:+0100
TZNAME:CET
DTSTART:20221030T010000
END:STANDARD
END:VTIMEZONE
BEGIN:VEVENT
DTSTART;VALUE=DATE:20211128
DTEND;VALUE=DATE:20211129
DTSTAMP:20260425T184431
CREATED:20211013T102128Z
LAST-MODIFIED:20211120T160808Z
UID:10001011-1638057600-1638143999@www.cyclisme.bzh
SUMMARY:Riec sur Belon (Bois des Pins) - Challenge de Cornouaille Sud
DESCRIPTION:Régularité : Dép 13h15 – Durée selon l’âge – Sans prix – Engagements 2 € \nMinimes G et F : Dép 14h30 – Durée 20′ – Sans prix – Engagements 6.50 € \nCadets/Cadettes : Dép 15h30 – Durée 30′ – Sans prix – Engagements 6.50 € \n 
URL:https://www.cyclisme.bzh/epreuve-calendrier/riec-sur-belon-bois-des-pins-challenge-de-cornouaille-sud/
LOCATION:RIEC SUR BELON\, RIEC SUR BELON\, Bretagne\, France
CATEGORIES:Ecole de cyclisme
END:VEVENT
BEGIN:VEVENT
DTSTART;VALUE=DATE:20211128
DTEND;VALUE=DATE:20211129
DTSTAMP:20260425T184431
CREATED:20211110T155926Z
LAST-MODIFIED:20211110T160611Z
UID:10000996-1638057600-1638143999@www.cyclisme.bzh
SUMMARY:Elven
DESCRIPTION:épreuve régularité cyclocross : \ndépart : 13 h – durée : selon l’âge – pas de pc \népreuve minimes H/F : \ndépart : 14h – pc : 28/3 \népreuve cadets-cadettes : \ndépart : 14h45 – durée : 30′ – pc : 61/5 – pc cadettes : 30/3 \népreuve juniors H : \ndépart : 14h45 -durée : 40′ -pc 76/5 \népreuve dames 17 ans et + : \ndépart : 14h45 – durée : 40′ – pc 47/5 \népreuve espoirs-seniors : \ndépart : 15h45 -durée : 50′ – pc 320/15 – pc espoirs : 61/5 \nPDJ non communiqué
URL:https://www.cyclisme.bzh/epreuve-calendrier/elven/
LOCATION:ELVEN\, France
CATEGORIES:Ecole de cyclisme
END:VEVENT
BEGIN:VEVENT
DTSTART;VALUE=DATE:20211128
DTEND;VALUE=DATE:20211129
DTSTAMP:20260425T184431
CREATED:20211117T095330Z
LAST-MODIFIED:20211119T141933Z
UID:10001032-1638057600-1638143999@www.cyclisme.bzh
SUMMARY:Redon - Championnats de Bretagne Master Hommes et Femmes
DESCRIPTION:Régularité : Dep 10h30 – Durée selon l’âge – Sans prix – Engagement 2€ \nMinimes H/F : Dep 11h15 – Durée 20′ – Sans prix – Engagement 6\,50€ \nCadets/Cadettes : Dep 12h30 – Durée 30′ – Gr cadet 47/5 – Gr cadettes 30/3 – Engagement 6\,50€ \nJuniors H\, Femmes 17ans et +: Dep 13h15 – Durée 40′ – Gr 61/5 – Engagement 8\,50€ \nChampionnat de Bretagne Masters Femmes : Dep 13h15 – Durée 40′ – Engagement 8\,50€ \nChampionnats de Bretagne Masters Hommes 30 ans et + (30-39\, 40-49\, 50 ans et +): Dep 14h15 – Durée 50′ avec départs différés – Engagement 8\,50€ \nEspoirs/Seniors : Dep 15h30 – Durée 50′ – Gr 259/15 – Engagement 8\,50€ \n 
URL:https://www.cyclisme.bzh/epreuve-calendrier/redon-championnats-de-bretagne-master-hommes-et-femmes/
LOCATION:REDON\, France
CATEGORIES:Ecole de cyclisme,Masters
ATTACH;FMTTYPE=image/jpeg:https://www.cyclisme.bzh/wp-content/uploads/2021/11/Affiche-Cyclo-Cross-REDON-scaled.jpg
ORGANIZER;CN="REDON OC":MAILTO:ludo.ducloyer@orange.fr
END:VEVENT
END:VCALENDAR