BEGIN:VCALENDAR
VERSION:2.0
PRODID:-//Comité de Bretagne de Cyclisme - ECPv6.15.20//NONSGML v1.0//EN
CALSCALE:GREGORIAN
METHOD:PUBLISH
X-WR-CALNAME:Comité de Bretagne de Cyclisme
X-ORIGINAL-URL:https://www.cyclisme.bzh
X-WR-CALDESC:Évènements pour Comité de Bretagne de Cyclisme
REFRESH-INTERVAL;VALUE=DURATION:PT1H
X-Robots-Tag:noindex
X-PUBLISHED-TTL:PT1H
BEGIN:VTIMEZONE
TZID:Europe/Paris
BEGIN:DAYLIGHT
TZOFFSETFROM:+0100
TZOFFSETTO:+0200
TZNAME:CEST
DTSTART:20200329T010000
END:DAYLIGHT
BEGIN:STANDARD
TZOFFSETFROM:+0200
TZOFFSETTO:+0100
TZNAME:CET
DTSTART:20201025T010000
END:STANDARD
BEGIN:DAYLIGHT
TZOFFSETFROM:+0100
TZOFFSETTO:+0200
TZNAME:CEST
DTSTART:20210328T010000
END:DAYLIGHT
BEGIN:STANDARD
TZOFFSETFROM:+0200
TZOFFSETTO:+0100
TZNAME:CET
DTSTART:20211031T010000
END:STANDARD
BEGIN:DAYLIGHT
TZOFFSETFROM:+0100
TZOFFSETTO:+0200
TZNAME:CEST
DTSTART:20220327T010000
END:DAYLIGHT
BEGIN:STANDARD
TZOFFSETFROM:+0200
TZOFFSETTO:+0100
TZNAME:CET
DTSTART:20221030T010000
END:STANDARD
END:VTIMEZONE
BEGIN:VEVENT
DTSTART;VALUE=DATE:20211127
DTEND;VALUE=DATE:20211128
DTSTAMP:20260426T004542
CREATED:20211026T104112Z
LAST-MODIFIED:20211120T160759Z
UID:10001020-1637971200-1638057599@www.cyclisme.bzh
SUMMARY:Pleyber-Christ Kerrivoal
DESCRIPTION:Régularité : Dép 11h – Durée selon l’âge – sans prix – Engagements 2 € er  er \nMinimes H/F : Dép 12h – Durée 20′ – Gr 107/10 1er 20 €  – Gr 47/5 1er 18 € ps minimes f – Engagements 6.50 € \nCadets/Cadettes : Dép 13h15 – Durée 30′ – Gr 138/10 1er 28€  – Gr 76/5 1er 27 € ps cadettes – Engagements 6.50 € \nDames 17ans et + : Dép 14h – Durée 40′ – Gr 274/15 1ère 53 € – Gr 183/10 1ère 37€ ps junior f – Engagements 8.50 € \nJuniors/Espoirs/Seniors H : Dép 15h00 – Durée 40′ pour les juniors – Gr 183/10 1er 37 € – Durée 50′ pour les espoirs/seniors – Gr 274/15 1er 53 € – Engagements 8.50 € \n  \n 
URL:https://www.cyclisme.bzh/epreuve-calendrier/pleyber-christ-kerrivoal/
LOCATION:Pleyber-Christ
CATEGORIES:Ecole de cyclisme
ORGANIZER;CN="CC Bigouden":MAILTO:ccbigouden@gmail.com
END:VEVENT
END:VCALENDAR