BEGIN:VCALENDAR
VERSION:2.0
PRODID:-//Comité de Bretagne de Cyclisme - ECPv6.15.20//NONSGML v1.0//EN
CALSCALE:GREGORIAN
METHOD:PUBLISH
X-ORIGINAL-URL:https://www.cyclisme.bzh
X-WR-CALDESC:Évènements pour Comité de Bretagne de Cyclisme
REFRESH-INTERVAL;VALUE=DURATION:PT1H
X-Robots-Tag:noindex
X-PUBLISHED-TTL:PT1H
BEGIN:VTIMEZONE
TZID:Europe/Paris
BEGIN:DAYLIGHT
TZOFFSETFROM:+0100
TZOFFSETTO:+0200
TZNAME:CEST
DTSTART:20200329T010000
END:DAYLIGHT
BEGIN:STANDARD
TZOFFSETFROM:+0200
TZOFFSETTO:+0100
TZNAME:CET
DTSTART:20201025T010000
END:STANDARD
BEGIN:DAYLIGHT
TZOFFSETFROM:+0100
TZOFFSETTO:+0200
TZNAME:CEST
DTSTART:20210328T010000
END:DAYLIGHT
BEGIN:STANDARD
TZOFFSETFROM:+0200
TZOFFSETTO:+0100
TZNAME:CET
DTSTART:20211031T010000
END:STANDARD
BEGIN:DAYLIGHT
TZOFFSETFROM:+0100
TZOFFSETTO:+0200
TZNAME:CEST
DTSTART:20220327T010000
END:DAYLIGHT
BEGIN:STANDARD
TZOFFSETFROM:+0200
TZOFFSETTO:+0100
TZNAME:CET
DTSTART:20221030T010000
END:STANDARD
END:VTIMEZONE
BEGIN:VEVENT
DTSTART;VALUE=DATE:20211114
DTEND;VALUE=DATE:20211115
DTSTAMP:20260425T184431
CREATED:20211022T125010Z
LAST-MODIFIED:20211022T130921Z
UID:10001015-1636848000-1636934399@www.cyclisme.bzh
SUMMARY:Cranne en Baud
DESCRIPTION:épreuve prélicenciés poussins pupilles benjamins : \ndépart : 13h – distance selon l’âge \népreuve minimes H/F : \ndépart : 14h – durée : 20′ – pc : 28/3 \népreuve cadets/cadettes – juniors H – dames 17 ans et + : \ndépart : 14h30 – durée  cadets 30 ‘ juniors et dames 40’  –  pc  cadets : 61/5 –  pc juniors : 76/5 – pc dames : 30/3 \népreuve espoirs seniors : \ndépart : 15h30 – durée 50′ – pc : 320/15 \nPDJ : non communiqué à ce jour \n  \n 
URL:https://www.cyclisme.bzh/epreuve-calendrier/cranne-en-baud/
LOCATION:CRANNE EN BAUD\, CRANNE EN BAUD\, Bretagne\, France
CATEGORIES:Ecole de cyclisme
END:VEVENT
BEGIN:VEVENT
DTSTART;VALUE=DATE:20211114
DTEND;VALUE=DATE:20211115
DTSTAMP:20260425T184431
CREATED:20211029T122149Z
LAST-MODIFIED:20211031T122615Z
UID:10001021-1636848000-1636934399@www.cyclisme.bzh
SUMMARY:Trégunc - Challenge de Cornouaille Sud
DESCRIPTION:Régularité : Dép 13h15 – Durée selon l’âge – sans prix – Engagements 2 € \nMinimes H et F : Dép 14h45 – Durée 20′ – sans prix – Engagements 6.50 € \nCadets-Cadettes : Dép 15h30 – Durée 30′ – sans prix – Engagements 6.50 € \nRèglement du challenge :https://www.cyclisme.bzh/challenge-cyclo-cross-de-cornouaille-sud-le-reglement-2021/
URL:https://www.cyclisme.bzh/epreuve-calendrier/tregunc-challenge-de-cornouaille-sud/
LOCATION:TREGUNC\, TREGUNC\, Bretagne\, France
CATEGORIES:Ecole de cyclisme
ATTACH;FMTTYPE=image/png:https://www.cyclisme.bzh/wp-content/uploads/2021/10/affiche-cyclo-ACT5.png
ORGANIZER;CN="AC Tr%C3%A9gunc":MAILTO:associationcyclistedetregunc@gmail.com
END:VEVENT
END:VCALENDAR